BEGIN:VCALENDAR
VERSION:2.0
PRODID:-//NADI Sukau, Kinabatangan - ECPv6.15.20//NONSGML v1.0//EN
CALSCALE:GREGORIAN
METHOD:PUBLISH
X-WR-CALNAME:NADI Sukau, Kinabatangan
X-ORIGINAL-URL:https://sukau.nadi.my
X-WR-CALDESC:Events for NADI Sukau, Kinabatangan
REFRESH-INTERVAL;VALUE=DURATION:PT1H
X-Robots-Tag:noindex
X-PUBLISHED-TTL:PT1H
BEGIN:VTIMEZONE
TZID:Asia/Kuala_Lumpur
BEGIN:STANDARD
TZOFFSETFROM:+0800
TZOFFSETTO:+0800
TZNAME:+08
DTSTART:20240101T000000
END:STANDARD
END:VTIMEZONE
BEGIN:VEVENT
DTSTART;TZID=Asia/Kuala_Lumpur:20250912T080000
DTEND;TZID=Asia/Kuala_Lumpur:20250912T170000
DTSTAMP:20260421T122920
CREATED:20250910T061435Z
LAST-MODIFIED:20250910T061435Z
UID:3964-1757664000-1757696400@sukau.nadi.my
SUMMARY:WELLBEING - NADICARE
DESCRIPTION:
URL:https://sukau.nadi.my/event/wellbeing-nadicare/
END:VEVENT
BEGIN:VEVENT
DTSTART;TZID=Asia/Kuala_Lumpur:20250911T100000
DTEND;TZID=Asia/Kuala_Lumpur:20250911T120000
DTSTAMP:20260421T122920
CREATED:20250909T025923Z
LAST-MODIFIED:20250909T025923Z
UID:3907-1757584800-1757592000@sukau.nadi.my
SUMMARY:USAHAWAN: COHORT 5 NADIPRENEUR & EMPOWHER (WEBINAR & VIDEO PRA LATIHAN)
DESCRIPTION:
URL:https://sukau.nadi.my/event/usahawan-cohort-5-nadipreneur-empowher-webinar-video-pra-latihan/
END:VEVENT
BEGIN:VEVENT
DTSTART;TZID=Asia/Kuala_Lumpur:20250911T090000
DTEND;TZID=Asia/Kuala_Lumpur:20250911T100000
DTSTAMP:20260421T122920
CREATED:20250910T034557Z
LAST-MODIFIED:20250910T034557Z
UID:3939-1757581200-1757584800@sukau.nadi.my
SUMMARY:DILEA - OPEN TUITION SAINS T1&T2
DESCRIPTION:
URL:https://sukau.nadi.my/event/dilea-open-tuition-sains-t1t2/
END:VEVENT
BEGIN:VEVENT
DTSTART;TZID=Asia/Kuala_Lumpur:20250911T080000
DTEND;TZID=Asia/Kuala_Lumpur:20250911T170000
DTSTAMP:20260421T122920
CREATED:20250910T061634Z
LAST-MODIFIED:20250910T061634Z
UID:3967-1757577600-1757610000@sukau.nadi.my
SUMMARY:WELLBEING - PODCAST: NARSIS DALAM KELUARGA
DESCRIPTION:
URL:https://sukau.nadi.my/event/wellbeing-podcast-narsis-dalam-keluarga/
END:VEVENT
BEGIN:VEVENT
DTSTART;TZID=Asia/Kuala_Lumpur:20250910T080000
DTEND;TZID=Asia/Kuala_Lumpur:20250910T170000
DTSTAMP:20260421T122920
CREATED:20250910T060408Z
LAST-MODIFIED:20250910T060408Z
UID:3962-1757491200-1757523600@sukau.nadi.my
SUMMARY:WELLBEING - HEALTH TIPS: WORLD SUICIDE PREVENTION DAY
DESCRIPTION:
URL:https://sukau.nadi.my/event/wellbeing-health-tips-world-suicide-prevention-day/
END:VEVENT
BEGIN:VEVENT
DTSTART;TZID=Asia/Kuala_Lumpur:20250828T150000
DTEND;TZID=Asia/Kuala_Lumpur:20250828T163000
DTSTAMP:20260421T122920
CREATED:20250804T073628Z
LAST-MODIFIED:20250804T073628Z
UID:3778-1756393200-1756398600@sukau.nadi.my
SUMMARY:CYBERSECURITY
DESCRIPTION:
URL:https://sukau.nadi.my/event/cybersecurity/
LOCATION:NADI SUKAU\, KAMPUNG SUKAU\, KOTA KINABATANGAN\, SABAH\, 90200\, Malaysia
END:VEVENT
BEGIN:VEVENT
DTSTART;TZID=Asia/Kuala_Lumpur:20250828T090000
DTEND;TZID=Asia/Kuala_Lumpur:20250828T100000
DTSTAMP:20260421T122920
CREATED:20250806T024043Z
LAST-MODIFIED:20250806T024043Z
UID:3799-1756371600-1756375200@sukau.nadi.my
SUMMARY:OPEN TUITION: SAINS
DESCRIPTION:
URL:https://sukau.nadi.my/event/open-tuition-sains-2/
LOCATION:NADI SUKAU\, KAMPUNG SUKAU\, KOTA KINABATANGAN\, SABAH\, 90200\, Malaysia
ORGANIZER;CN="Dilea":MAILTO:syazwani@msda.com.my
END:VEVENT
BEGIN:VEVENT
DTSTART;TZID=Asia/Kuala_Lumpur:20250825T080000
DTEND;TZID=Asia/Kuala_Lumpur:20250825T170000
DTSTAMP:20260421T122920
CREATED:20250804T073558Z
LAST-MODIFIED:20250804T073558Z
UID:3776-1756108800-1756141200@sukau.nadi.my
SUMMARY:KIDVENTURE COHORT 5: VIDEO PELAN PERNIAGAAN PERTAMA SAYA
DESCRIPTION:
URL:https://sukau.nadi.my/event/kidventure-cohort-5-video-pelan-perniagaan-pertama-saya/
LOCATION:NADI SUKAU\, KAMPUNG SUKAU\, KOTA KINABATANGAN\, SABAH\, 90200\, Malaysia
END:VEVENT
BEGIN:VEVENT
DTSTART;TZID=Asia/Kuala_Lumpur:20250823T080000
DTEND;TZID=Asia/Kuala_Lumpur:20250823T170000
DTSTAMP:20260421T122920
CREATED:20250804T073522Z
LAST-MODIFIED:20250804T073522Z
UID:3774-1755936000-1755968400@sukau.nadi.my
SUMMARY:USAHAWAN COHORT 4: WEBINAR PERANCANGAN KEWANGAN
DESCRIPTION:
URL:https://sukau.nadi.my/event/usahawan-cohort-4-webinar-perancangan-kewangan-2/
LOCATION:NADI SUKAU\, KAMPUNG SUKAU\, KOTA KINABATANGAN\, SABAH\, 90200\, Malaysia
END:VEVENT
BEGIN:VEVENT
DTSTART;TZID=Asia/Kuala_Lumpur:20250821T090000
DTEND;TZID=Asia/Kuala_Lumpur:20250821T100000
DTSTAMP:20260421T122920
CREATED:20250806T023957Z
LAST-MODIFIED:20250806T023957Z
UID:3797-1755766800-1755770400@sukau.nadi.my
SUMMARY:OPEN TUITION: BAHASA MELAYU
DESCRIPTION:
URL:https://sukau.nadi.my/event/open-tuition-bahasa-melayu-2/
LOCATION:NADI SUKAU\, KAMPUNG SUKAU\, KOTA KINABATANGAN\, SABAH\, 90200\, Malaysia
ORGANIZER;CN="Dilea":MAILTO:syazwani@msda.com.my
END:VEVENT
BEGIN:VEVENT
DTSTART;TZID=Asia/Kuala_Lumpur:20250821T080000
DTEND;TZID=Asia/Kuala_Lumpur:20250821T170000
DTSTAMP:20260421T122920
CREATED:20250804T073449Z
LAST-MODIFIED:20250804T073449Z
UID:3772-1755763200-1755795600@sukau.nadi.my
SUMMARY:EKELAS
DESCRIPTION:
URL:https://sukau.nadi.my/event/ekelas-7/
LOCATION:NADI SUKAU\, KAMPUNG SUKAU\, KOTA KINABATANGAN\, SABAH\, 90200\, Malaysia
END:VEVENT
BEGIN:VEVENT
DTSTART;TZID=Asia/Kuala_Lumpur:20250820T150000
DTEND;TZID=Asia/Kuala_Lumpur:20250820T163000
DTSTAMP:20260421T122920
CREATED:20250804T073418Z
LAST-MODIFIED:20250804T073418Z
UID:3770-1755702000-1755707400@sukau.nadi.my
SUMMARY:KESEDARAN: BULI SIBER
DESCRIPTION:
URL:https://sukau.nadi.my/event/kesedaran-buli-siber/
LOCATION:NADI SUKAU\, KAMPUNG SUKAU\, KOTA KINABATANGAN\, SABAH\, 90200\, Malaysia
END:VEVENT
BEGIN:VEVENT
DTSTART;TZID=Asia/Kuala_Lumpur:20250820T080000
DTEND;TZID=Asia/Kuala_Lumpur:20250820T170000
DTSTAMP:20260421T122920
CREATED:20250804T073341Z
LAST-MODIFIED:20250804T073341Z
UID:3768-1755676800-1755709200@sukau.nadi.my
SUMMARY:EKELAS
DESCRIPTION:
URL:https://sukau.nadi.my/event/ekelas-6/
LOCATION:NADI SUKAU\, KAMPUNG SUKAU\, KOTA KINABATANGAN\, SABAH\, 90200\, Malaysia
END:VEVENT
BEGIN:VEVENT
DTSTART;TZID=Asia/Kuala_Lumpur:20250819T090000
DTEND;TZID=Asia/Kuala_Lumpur:20250819T100000
DTSTAMP:20260421T122920
CREATED:20250806T023851Z
LAST-MODIFIED:20250806T023851Z
UID:3795-1755594000-1755597600@sukau.nadi.my
SUMMARY:OPEN TUITION: BAHASA INGGERIS
DESCRIPTION:
URL:https://sukau.nadi.my/event/open-tuition-bahasa-inggeris/
LOCATION:NADI SUKAU\, KAMPUNG SUKAU\, KOTA KINABATANGAN\, SABAH\, 90200\, Malaysia
ORGANIZER;CN="Dilea":MAILTO:syazwani@msda.com.my
END:VEVENT
BEGIN:VEVENT
DTSTART;TZID=Asia/Kuala_Lumpur:20250819T080000
DTEND;TZID=Asia/Kuala_Lumpur:20250819T170000
DTSTAMP:20260421T122920
CREATED:20250804T073320Z
LAST-MODIFIED:20250804T073320Z
UID:3766-1755590400-1755622800@sukau.nadi.my
SUMMARY:EKELAS
DESCRIPTION:
URL:https://sukau.nadi.my/event/ekelas-5/
LOCATION:NADI SUKAU\, KAMPUNG SUKAU\, KOTA KINABATANGAN\, SABAH\, 90200\, Malaysia
END:VEVENT
BEGIN:VEVENT
DTSTART;TZID=Asia/Kuala_Lumpur:20250819T080000
DTEND;TZID=Asia/Kuala_Lumpur:20250819T170000
DTSTAMP:20260421T122920
CREATED:20250804T073257Z
LAST-MODIFIED:20250804T073257Z
UID:3764-1755590400-1755622800@sukau.nadi.my
SUMMARY:USAHAWAN COHORT 4: WEBINAR PERANCANGAN KEWANGAN
DESCRIPTION:
URL:https://sukau.nadi.my/event/usahawan-cohort-4-webinar-perancangan-kewangan/
LOCATION:NADI SUKAU\, KAMPUNG SUKAU\, KOTA KINABATANGAN\, SABAH\, 90200\, Malaysia
END:VEVENT
BEGIN:VEVENT
DTSTART;TZID=Asia/Kuala_Lumpur:20250818T100000
DTEND;TZID=Asia/Kuala_Lumpur:20250818T120000
DTSTAMP:20260421T122920
CREATED:20250804T073202Z
LAST-MODIFIED:20250804T073202Z
UID:3762-1755511200-1755518400@sukau.nadi.my
SUMMARY:EKELAS
DESCRIPTION:
URL:https://sukau.nadi.my/event/ekelas-4/
LOCATION:NADI SUKAU\, KAMPUNG SUKAU\, KOTA KINABATANGAN\, SABAH\, 90200\, Malaysia
END:VEVENT
BEGIN:VEVENT
DTSTART;TZID=Asia/Kuala_Lumpur:20250818T090000
DTEND;TZID=Asia/Kuala_Lumpur:20250818T100000
DTSTAMP:20260421T122920
CREATED:20250806T023809Z
LAST-MODIFIED:20250806T023809Z
UID:3793-1755507600-1755511200@sukau.nadi.my
SUMMARY:OPEN TUITION: MATEMATIK
DESCRIPTION:
URL:https://sukau.nadi.my/event/open-tuition-matematik/
LOCATION:NADI SUKAU\, KAMPUNG SUKAU\, KOTA KINABATANGAN\, SABAH\, 90200\, Malaysia
ORGANIZER;CN="Dilea":MAILTO:syazwani@msda.com.my
END:VEVENT
BEGIN:VEVENT
DTSTART;TZID=Asia/Kuala_Lumpur:20250817T080000
DTEND;TZID=Asia/Kuala_Lumpur:20250817T170000
DTSTAMP:20260421T122920
CREATED:20250804T073123Z
LAST-MODIFIED:20250804T073123Z
UID:3760-1755417600-1755450000@sukau.nadi.my
SUMMARY:TINY TECHIES: (SECONDARY - HTML)
DESCRIPTION:
URL:https://sukau.nadi.my/event/tiny-techies-secondary-html/
LOCATION:NADI SUKAU\, KAMPUNG SUKAU\, KOTA KINABATANGAN\, SABAH\, 90200\, Malaysia
END:VEVENT
BEGIN:VEVENT
DTSTART;TZID=Asia/Kuala_Lumpur:20250815T153000
DTEND;TZID=Asia/Kuala_Lumpur:20250815T163000
DTSTAMP:20260421T122920
CREATED:20250804T073027Z
LAST-MODIFIED:20250804T073027Z
UID:3758-1755271800-1755275400@sukau.nadi.my
SUMMARY:DILEA : BAHASA INGGERIS (T4)
DESCRIPTION:
URL:https://sukau.nadi.my/event/dilea-bahasa-inggeris-t4/
LOCATION:NADI SUKAU\, KAMPUNG SUKAU\, KOTA KINABATANGAN\, SABAH\, 90200\, Malaysia
ORGANIZER;CN="Dilea":MAILTO:syazwani@msda.com.my
END:VEVENT
BEGIN:VEVENT
DTSTART;TZID=Asia/Kuala_Lumpur:20250814T153000
DTEND;TZID=Asia/Kuala_Lumpur:20250814T163000
DTSTAMP:20260421T122920
CREATED:20250804T061312Z
LAST-MODIFIED:20250804T061312Z
UID:3750-1755185400-1755189000@sukau.nadi.my
SUMMARY:DILEA: SEJARAH (T4)
DESCRIPTION:
URL:https://sukau.nadi.my/event/dilea-sejarah-t4/
LOCATION:NADI SUKAU\, KAMPUNG SUKAU\, KOTA KINABATANGAN\, SABAH\, 90200\, Malaysia
ORGANIZER;CN="Dilea":MAILTO:syazwani@msda.com.my
END:VEVENT
BEGIN:VEVENT
DTSTART;TZID=Asia/Kuala_Lumpur:20250814T150000
DTEND;TZID=Asia/Kuala_Lumpur:20250814T170000
DTSTAMP:20260421T122920
CREATED:20250804T061656Z
LAST-MODIFIED:20250804T061656Z
UID:3756-1755183600-1755190800@sukau.nadi.my
SUMMARY:CYBERSECURITY: SELAMATKAH TELEFON ANDA
DESCRIPTION:
URL:https://sukau.nadi.my/event/cybersecurity-selamatkah-telefon-anda/
LOCATION:NADI SUKAU\, KAMPUNG SUKAU\, KOTA KINABATANGAN\, SABAH\, 90200\, Malaysia
END:VEVENT
BEGIN:VEVENT
DTSTART;TZID=Asia/Kuala_Lumpur:20250814T100000
DTEND;TZID=Asia/Kuala_Lumpur:20250814T120000
DTSTAMP:20260421T122920
CREATED:20250804T061440Z
LAST-MODIFIED:20250804T061440Z
UID:3754-1755165600-1755172800@sukau.nadi.my
SUMMARY:EKELAS
DESCRIPTION:
URL:https://sukau.nadi.my/event/ekelas-3/
LOCATION:NADI SUKAU\, KAMPUNG SUKAU\, KOTA KINABATANGAN\, SABAH\, 90200\, Malaysia
END:VEVENT
BEGIN:VEVENT
DTSTART;TZID=Asia/Kuala_Lumpur:20250814T090000
DTEND;TZID=Asia/Kuala_Lumpur:20250814T100000
DTSTAMP:20260421T122920
CREATED:20250806T023724Z
LAST-MODIFIED:20250806T023724Z
UID:3791-1755162000-1755165600@sukau.nadi.my
SUMMARY:OPEN TUITION: SAINS
DESCRIPTION:
URL:https://sukau.nadi.my/event/open-tuition-sains/
LOCATION:NADI SUKAU\, KAMPUNG SUKAU\, KOTA KINABATANGAN\, SABAH\, 90200\, Malaysia
ORGANIZER;CN="Dilea":MAILTO:syazwani@msda.com.my
END:VEVENT
BEGIN:VEVENT
DTSTART;TZID=Asia/Kuala_Lumpur:20250814T080000
DTEND;TZID=Asia/Kuala_Lumpur:20250814T170000
DTSTAMP:20260421T122920
CREATED:20250804T061403Z
LAST-MODIFIED:20250804T061403Z
UID:3752-1755158400-1755190800@sukau.nadi.my
SUMMARY:USAHAWAN COHORT 4: WEBINAR PEMASARAN & OPERASI PERNIAGAAN
DESCRIPTION:
URL:https://sukau.nadi.my/event/usahawan-cohort-4-webinar-pemasaran-operasi-perniagaan/
LOCATION:NADI SUKAU\, KAMPUNG SUKAU\, KOTA KINABATANGAN\, SABAH\, 90200\, Malaysia
END:VEVENT
BEGIN:VEVENT
DTSTART;TZID=Asia/Kuala_Lumpur:20250813T100000
DTEND;TZID=Asia/Kuala_Lumpur:20250813T120000
DTSTAMP:20260421T122920
CREATED:20250804T061224Z
LAST-MODIFIED:20250804T061224Z
UID:3748-1755079200-1755086400@sukau.nadi.my
SUMMARY:EKELAS
DESCRIPTION:
URL:https://sukau.nadi.my/event/ekelas-2/
LOCATION:NADI SUKAU\, KAMPUNG SUKAU\, KOTA KINABATANGAN\, SABAH\, 90200\, Malaysia
END:VEVENT
BEGIN:VEVENT
DTSTART;TZID=Asia/Kuala_Lumpur:20250812T153000
DTEND;TZID=Asia/Kuala_Lumpur:20250812T163000
DTSTAMP:20260421T122920
CREATED:20250804T061117Z
LAST-MODIFIED:20250804T061117Z
UID:3744-1755012600-1755016200@sukau.nadi.my
SUMMARY:DILEA: BAHASA MELAYU (T4)
DESCRIPTION:
URL:https://sukau.nadi.my/event/dilea-bahasa-melayu-t4/
LOCATION:NADI SUKAU\, KAMPUNG SUKAU\, KOTA KINABATANGAN\, SABAH\, 90200\, Malaysia
ORGANIZER;CN="Dilea":MAILTO:syazwani@msda.com.my
END:VEVENT
BEGIN:VEVENT
DTSTART;TZID=Asia/Kuala_Lumpur:20250812T100000
DTEND;TZID=Asia/Kuala_Lumpur:20250812T120000
DTSTAMP:20260421T122920
CREATED:20250804T061150Z
LAST-MODIFIED:20250804T061150Z
UID:3746-1754992800-1755000000@sukau.nadi.my
SUMMARY:EKELAS
DESCRIPTION:
URL:https://sukau.nadi.my/event/ekelas/
LOCATION:NADI SUKAU\, KAMPUNG SUKAU\, KOTA KINABATANGAN\, SABAH\, 90200\, Malaysia
END:VEVENT
BEGIN:VEVENT
DTSTART;TZID=Asia/Kuala_Lumpur:20250811T100000
DTEND;TZID=Asia/Kuala_Lumpur:20250811T120000
DTSTAMP:20260421T122920
CREATED:20250804T061025Z
LAST-MODIFIED:20250804T061025Z
UID:3742-1754906400-1754913600@sukau.nadi.my
SUMMARY:EKELAS: MODULE 1 & 2
DESCRIPTION:
URL:https://sukau.nadi.my/event/ekelas-module-1-2-3/
LOCATION:NADI SUKAU\, KAMPUNG SUKAU\, KOTA KINABATANGAN\, SABAH\, 90200\, Malaysia
END:VEVENT
BEGIN:VEVENT
DTSTART;TZID=Asia/Kuala_Lumpur:20250811T090000
DTEND;TZID=Asia/Kuala_Lumpur:20250811T100000
DTSTAMP:20260421T122920
CREATED:20250806T023648Z
LAST-MODIFIED:20250806T023648Z
UID:3789-1754902800-1754906400@sukau.nadi.my
SUMMARY:OPEN TUITION: SEJARAH
DESCRIPTION:
URL:https://sukau.nadi.my/event/open-tuition-sejarah/
LOCATION:NADI SUKAU\, KAMPUNG SUKAU\, KOTA KINABATANGAN\, SABAH\, 90200\, Malaysia
ORGANIZER;CN="Dilea":MAILTO:syazwani@msda.com.my
END:VEVENT
END:VCALENDAR