BEGIN:VCALENDAR
VERSION:2.0
PRODID:-//NADI Sukau, Kinabatangan - ECPv6.15.20//NONSGML v1.0//EN
CALSCALE:GREGORIAN
METHOD:PUBLISH
X-WR-CALNAME:NADI Sukau, Kinabatangan
X-ORIGINAL-URL:https://sukau.nadi.my
X-WR-CALDESC:Events for NADI Sukau, Kinabatangan
REFRESH-INTERVAL;VALUE=DURATION:PT1H
X-Robots-Tag:noindex
X-PUBLISHED-TTL:PT1H
BEGIN:VTIMEZONE
TZID:UTC
BEGIN:STANDARD
TZOFFSETFROM:+0000
TZOFFSETTO:+0000
TZNAME:UTC
DTSTART:20230101T000000
END:STANDARD
END:VTIMEZONE
BEGIN:VEVENT
DTSTART;TZID=UTC:20240514T140000
DTEND;TZID=UTC:20240514T170000
DTSTAMP:20260424T062450
CREATED:20240506T221134Z
LAST-MODIFIED:20240506T221134Z
UID:2733-1715695200-1715706000@sukau.nadi.my
SUMMARY:E-PEMBELAJARAN: ENGLISH VOCAB
DESCRIPTION:Program ini dapat meningkatkan perebendaharaan kata dalam Bahasa Inggeris
URL:https://sukau.nadi.my/event/e-pembelajaran-english-vocab/
LOCATION:Pusat Sebaran Maklumat Nasional (NADI) Kg. Sukau\, Pusat Sebaran Maklumat Nasional (NADI) Kg. Sukau
CATEGORIES:DEFAULT
END:VEVENT
BEGIN:VEVENT
DTSTART;TZID=UTC:20240513T140000
DTEND;TZID=UTC:20240513T170000
DTSTAMP:20260424T062450
CREATED:20240506T221022Z
LAST-MODIFIED:20240506T221022Z
UID:2732-1715608800-1715619600@sukau.nadi.my
SUMMARY:ICT : BASIC MICROSOFT WORD - SURAT RASMI
DESCRIPTION:Program ini dapat meningkatkan kemahiran asas dalam penggunaan Microsoft Word untuk membuat surat rasmi.
URL:https://sukau.nadi.my/event/ict-basic-microsoft-word-surat-rasmi/
LOCATION:Pusat Sebaran Maklumat Nasional (NADI) Kg. Sukau\, Pusat Sebaran Maklumat Nasional (NADI) Kg. Sukau
CATEGORIES:DEFAULT
END:VEVENT
BEGIN:VEVENT
DTSTART;TZID=UTC:20240510T140000
DTEND;TZID=UTC:20240510T170000
DTSTAMP:20260424T062450
CREATED:20240506T220901Z
LAST-MODIFIED:20240506T220901Z
UID:2731-1715349600-1715360400@sukau.nadi.my
SUMMARY:STEM-IOT : TRAFFICATOR (ATAS TALIAN)
DESCRIPTION:Program ini bertujuan mengembangkan pemahaman tentang sistem lalu lintas pintar secara atas talian
URL:https://sukau.nadi.my/event/stem-iot-trafficator-atas-talian/
LOCATION:Pusat Sebaran Maklumat Nasional (NADI) Kg. Sukau\, Pusat Sebaran Maklumat Nasional (NADI) Kg. Sukau
CATEGORIES:DEFAULT
END:VEVENT
BEGIN:VEVENT
DTSTART;TZID=UTC:20240507T140000
DTEND;TZID=UTC:20240507T170000
DTSTAMP:20260424T062450
CREATED:20240506T220659Z
LAST-MODIFIED:20240506T220659Z
UID:2730-1715090400-1715101200@sukau.nadi.my
SUMMARY:E-PEMBELAJARAN: WORDS SEARCH
DESCRIPTION:Meningkatkan kemahiran penyelesaian masalah dengan memberi tumpuan melalui permainan mencari kata.
URL:https://sukau.nadi.my/event/e-pembelajaran-words-search/
LOCATION:Pusat Sebaran Maklumat Nasional (NADI) Kg. Sukau\, Pusat Sebaran Maklumat Nasional (NADI) Kg. Sukau
CATEGORIES:DEFAULT
END:VEVENT
BEGIN:VEVENT
DTSTART;TZID=UTC:20240506T080000
DTEND;TZID=UTC:20240506T120000
DTSTAMP:20260424T062450
CREATED:20240506T220440Z
LAST-MODIFIED:20240506T220440Z
UID:2729-1714982400-1714996800@sukau.nadi.my
SUMMARY:KEUSAHAWANAN : MENJANA PENDAPATAN BERSAMA YAYASAN USAHA MAJU
DESCRIPTION:Program ini bertujuan membina kerjasama dengan Yayasan Usaha Maju untuk menjana pendapatan yang mampan khususnya dalam kalangan suri rumah.
URL:https://sukau.nadi.my/event/keusahawanan-menjana-pendapatan-bersama-yayasan-usaha-maju/
LOCATION:Pusat Sebaran Maklumat Nasional (NADI) Kg. Sukau\, Pusat Sebaran Maklumat Nasional (NADI) Kg. Sukau
CATEGORIES:DEFAULT
END:VEVENT
BEGIN:VEVENT
DTSTART;TZID=UTC:20240503T080000
DTEND;TZID=UTC:20240503T120000
DTSTAMP:20260424T062450
CREATED:20240506T220253Z
LAST-MODIFIED:20240506T220253Z
UID:2728-1714723200-1714737600@sukau.nadi.my
SUMMARY:KEUSAHAWANAN : KURSUS PENGENDALIAN MAKANAN
DESCRIPTION:Program ini bertujuan meningkatkan pengetahuan tentang pengendalian makanan yang selamat dan berkualiti
URL:https://sukau.nadi.my/event/keusahawanan-kursus-pengendalian-makanan/
LOCATION:Pusat Sebaran Maklumat Nasional (NADI) Kg. Sukau\, Pusat Sebaran Maklumat Nasional (NADI) Kg. Sukau
CATEGORIES:DEFAULT
END:VEVENT
BEGIN:VEVENT
DTSTART;TZID=UTC:20240430T140000
DTEND;TZID=UTC:20240430T170000
DTSTAMP:20260424T062450
CREATED:20240405T231028Z
LAST-MODIFIED:20240405T231028Z
UID:2727-1714485600-1714496400@sukau.nadi.my
SUMMARY:SHOPPE AFILIATE
DESCRIPTION:Peserta akan diberi bimbingan berkaitan cara membina copywriting dengan Chatgpt serta kaedah menilai prestasi affiliate.
URL:https://sukau.nadi.my/event/shoppe-afiliate/
LOCATION:Pusat Sebaran Maklumat Nasional (NADI) Kg. Sukau\, Pusat Sebaran Maklumat Nasional (NADI) Kg. Sukau
CATEGORIES:DEFAULT
END:VEVENT
BEGIN:VEVENT
DTSTART;TZID=UTC:20240429T140000
DTEND;TZID=UTC:20240429T170000
DTSTAMP:20260424T062450
CREATED:20240405T230937Z
LAST-MODIFIED:20240405T230937Z
UID:2726-1714399200-1714410000@sukau.nadi.my
SUMMARY:E-LEARNING:MEMBUAT POSTER MENGGUNAKAN CANVA
DESCRIPTION:Aktiviti membuat poster menggunakan canva ini akan dapat membantu komuniti khususnya usahawan untuk membuatkan poster jualan mereka lebih menarik.
URL:https://sukau.nadi.my/event/e-learningmembuat-poster-menggunakan-canva/
LOCATION:Pusat Sebaran Maklumat Nasional (NADI) Kg. Sukau\, Pusat Sebaran Maklumat Nasional (NADI) Kg. Sukau
CATEGORIES:DEFAULT
END:VEVENT
BEGIN:VEVENT
DTSTART;TZID=UTC:20240428T080000
DTEND;TZID=UTC:20240428T120000
DTSTAMP:20260424T062450
CREATED:20240405T230841Z
LAST-MODIFIED:20240405T230841Z
UID:2725-1714291200-1714305600@sukau.nadi.my
SUMMARY:SOFT SKILLS: MEMBUAT DAN MENGUBAHSUAI RESUME
DESCRIPTION:Program ini dapat mengasah kemahiran menulis dalam kalangan peserta dengan menggunakan bahasa yang tepat dan berkesan.
URL:https://sukau.nadi.my/event/soft-skills-membuat-dan-mengubahsuai-resume/
LOCATION:Pusat Sebaran Maklumat Nasional (NADI) Kg. Sukau\, Pusat Sebaran Maklumat Nasional (NADI) Kg. Sukau
CATEGORIES:DEFAULT
END:VEVENT
BEGIN:VEVENT
DTSTART;TZID=UTC:20240427T080000
DTEND;TZID=UTC:20240427T120000
DTSTAMP:20260424T062450
CREATED:20240405T230714Z
LAST-MODIFIED:20240405T230714Z
UID:2724-1714204800-1714219200@sukau.nadi.my
SUMMARY:STEM-IOT: BOUNCY EGG
DESCRIPTION:aktiviti akan memberikan memberikan pelajaran yang interaktif dan menyeronokkan kepada kanak-kanak. Ini kerana mereka dapat melihat perubahan yang menarik pada telur dan menyelidiki sifat-sifat baru pada telur tersebut.
URL:https://sukau.nadi.my/event/stem-iot-bouncy-egg/
LOCATION:Pusat Sebaran Maklumat Nasional (NADI) Kg. Sukau\, Pusat Sebaran Maklumat Nasional (NADI) Kg. Sukau
CATEGORIES:DEFAULT
END:VEVENT
BEGIN:VEVENT
DTSTART;TZID=UTC:20240425T140000
DTEND;TZID=UTC:20240425T170000
DTSTAMP:20260424T062450
CREATED:20240405T230600Z
LAST-MODIFIED:20240405T230600Z
UID:2723-1714053600-1714064400@sukau.nadi.my
SUMMARY:BASIC MICROSOFT POWERPOINT
DESCRIPTION:module powerpoint yang disampaikan akan memberikan pengetahuan kepada komuniti khususnya pelajar cara menambahkan efek animasi dalam powerpoint untuk menjadikannya lebih menarik
URL:https://sukau.nadi.my/event/basic-microsoft-powerpoint/
LOCATION:Pusat Sebaran Maklumat Nasional (NADI) Kg. Sukau\, Pusat Sebaran Maklumat Nasional (NADI) Kg. Sukau
CATEGORIES:DEFAULT
END:VEVENT
BEGIN:VEVENT
DTSTART;TZID=UTC:20240421T080000
DTEND;TZID=UTC:20240421T120000
DTSTAMP:20260424T062450
CREATED:20240405T230448Z
LAST-MODIFIED:20240405T230448Z
UID:2722-1713686400-1713700800@sukau.nadi.my
SUMMARY:BASIC MICROSOFT WORD
DESCRIPTION:Peserta akan diajarkan menggunakan section “Home” seperti memilih jenis tulis\, saiz font\, mengatur jarak antara huruf dan sebagainya.
URL:https://sukau.nadi.my/event/basic-microsoft-word/
LOCATION:Pusat Sebaran Maklumat Nasional (NADI) Kg. Sukau\, Pusat Sebaran Maklumat Nasional (NADI) Kg. Sukau
CATEGORIES:DEFAULT
END:VEVENT
BEGIN:VEVENT
DTSTART;TZID=UTC:20240420T080000
DTEND;TZID=UTC:20240420T120000
DTSTAMP:20260424T062450
CREATED:20240405T230340Z
LAST-MODIFIED:20240405T230340Z
UID:2721-1713600000-1713614400@sukau.nadi.my
SUMMARY:STEM-IOT: LITAR ELEKTRIK
DESCRIPTION:Aktiviti ini memberi peluang kepada kanak-kanak untuk memahami konsep-konsep asas dalam litar elektrik seperti arus elektrik\, voltan dan sambungan litar.
URL:https://sukau.nadi.my/event/stem-iot-litar-elektrik/
LOCATION:Pusat Sebaran Maklumat Nasional (NADI) Kg. Sukau\, Pusat Sebaran Maklumat Nasional (NADI) Kg. Sukau
CATEGORIES:DEFAULT
END:VEVENT
BEGIN:VEVENT
DTSTART;TZID=UTC:20240419T140000
DTEND;TZID=UTC:20240419T170000
DTSTAMP:20260424T062450
CREATED:20240405T230129Z
LAST-MODIFIED:20240405T230129Z
UID:2720-1713535200-1713546000@sukau.nadi.my
SUMMARY:BASIC MICROSOFT PAINT
DESCRIPTION:Aktiviti akan memberi tumpuan kepada kemahiran menggunakan microsoft paint. Peserta akan dibimbing cara menggunakan pelbagai alat dan fungsi dalam microsoft paint tersebut untuk melukis dan mewarna secara digital.
URL:https://sukau.nadi.my/event/basic-microsoft-paint/
LOCATION:Pusat Sebaran Maklumat Nasional (NADI) Kg. Sukau\, Pusat Sebaran Maklumat Nasional (NADI) Kg. Sukau
CATEGORIES:DEFAULT
END:VEVENT
BEGIN:VEVENT
DTSTART;TZID=UTC:20240419T140000
DTEND;TZID=UTC:20240419T170000
DTSTAMP:20260424T062450
CREATED:20240405T230025Z
LAST-MODIFIED:20240405T230025Z
UID:2719-1713535200-1713546000@sukau.nadi.my
SUMMARY:STEM-IOT: MEMBINA ROKET
DESCRIPTION:Memberikan pengalaman konsep sains dengan mempelajari prinsip-prinsip sains seperti tekanan udara\, dorongan dan graviti melalui aktiviti ini.
URL:https://sukau.nadi.my/event/stem-iot-membina-roket/
LOCATION:Pusat Sebaran Maklumat Nasional (NADI) Kg. Sukau\, Pusat Sebaran Maklumat Nasional (NADI) Kg. Sukau
CATEGORIES:DEFAULT
END:VEVENT
BEGIN:VEVENT
DTSTART;TZID=UTC:20240418T140000
DTEND;TZID=UTC:20240418T170000
DTSTAMP:20260424T062450
CREATED:20240405T225918Z
LAST-MODIFIED:20240405T225918Z
UID:2718-1713448800-1713459600@sukau.nadi.my
SUMMARY:E-LEARNING - MATH QUIZ
DESCRIPTION:Quiz matematik ini akan memperkukuh kemahiran berfikir secara kritis kepada kanak-kanak dengan menyelesaikan soalan matematik yang mana ini akan membantu membangunkan kemahiran berfikir mereka.
URL:https://sukau.nadi.my/event/e-learning-math-quiz/
LOCATION:Pusat Sebaran Maklumat Nasional (NADI) Kg. Sukau\, Pusat Sebaran Maklumat Nasional (NADI) Kg. Sukau
CATEGORIES:DEFAULT
END:VEVENT
BEGIN:VEVENT
DTSTART;TZID=UTC:20240415T080000
DTEND;TZID=UTC:20240415T120000
DTSTAMP:20260424T062450
CREATED:20240405T225748Z
LAST-MODIFIED:20240405T225748Z
UID:2717-1713168000-1713182400@sukau.nadi.my
SUMMARY:MENJANA PENDAPATAN BERSAMA YAYASAN USAHA MAJU
DESCRIPTION:Program ini memberikan peluang kepada usahawan kecil dan sederhana untuk mendapatkan modal supaya dapat mengembangkan lagi perniagaan mereka.
URL:https://sukau.nadi.my/event/menjana-pendapatan-bersama-yayasan-usaha-maju/
LOCATION:Pusat Sebaran Maklumat Nasional (NADI) Kg. Sukau\, Pusat Sebaran Maklumat Nasional (NADI) Kg. Sukau
CATEGORIES:DEFAULT
END:VEVENT
BEGIN:VEVENT
DTSTART;TZID=UTC:20240407T080000
DTEND;TZID=UTC:20240407T120000
DTSTAMP:20260424T062450
CREATED:20240405T225639Z
LAST-MODIFIED:20240405T225639Z
UID:2716-1712476800-1712491200@sukau.nadi.my
SUMMARY:KUIZ BERKAITAN ICT
DESCRIPTION:Peserta akan ditanyakan soalan berdasarkan ICT untuk menguji sejauh mana pemahaman mereka mengenai ICT seterusnya membuat penambahbaikan untuk menambah pemahaman mereka.
URL:https://sukau.nadi.my/event/kuiz-berkaitan-ict/
LOCATION:Pusat Sebaran Maklumat Nasional (NADI) Kg. Sukau\, Pusat Sebaran Maklumat Nasional (NADI) Kg. Sukau
CATEGORIES:DEFAULT
END:VEVENT
BEGIN:VEVENT
DTSTART;TZID=UTC:20240406T080000
DTEND;TZID=UTC:20240406T120000
DTSTAMP:20260424T062450
CREATED:20240405T225526Z
LAST-MODIFIED:20240405T225526Z
UID:2715-1712390400-1712404800@sukau.nadi.my
SUMMARY:E-LEARNING-KUIZ SAINS ONLINE
DESCRIPTION:Kuiz online ini akan membantu peserta untuk mempelajari serta menguji pengetahuan mereka dalam bidang sains.
URL:https://sukau.nadi.my/event/e-learning-kuiz-sains-online/
LOCATION:Pusat Sebaran Maklumat Nasional (NADI) Kg. Sukau\, Pusat Sebaran Maklumat Nasional (NADI) Kg. Sukau
CATEGORIES:DEFAULT
END:VEVENT
BEGIN:VEVENT
DTSTART;TZID=UTC:20240405T140000
DTEND;TZID=UTC:20240405T170000
DTSTAMP:20260424T062450
CREATED:20240405T225335Z
LAST-MODIFIED:20240405T225335Z
UID:2714-1712325600-1712336400@sukau.nadi.my
SUMMARY:STEM-IOT : BUILDING BLOCKS
DESCRIPTION:Aktiviti ini dapat merangsang kreativiti dengan memberi peluang kepada kanak-kanak untuk menggunakan imaginasi dan kreativiti mereka untuk membina sesuatu yang unik dari dunia imaginasi mereka sendiri
URL:https://sukau.nadi.my/event/stem-iot-building-blocks/
LOCATION:Pusat Sebaran Maklumat Nasional (NADI) Kg. Sukau\, Pusat Sebaran Maklumat Nasional (NADI) Kg. Sukau
CATEGORIES:DEFAULT
END:VEVENT
BEGIN:VEVENT
DTSTART;TZID=UTC:20240403T080000
DTEND;TZID=UTC:20240403T120000
DTSTAMP:20260424T062450
CREATED:20240405T225143Z
LAST-MODIFIED:20240405T225143Z
UID:2713-1712131200-1712145600@sukau.nadi.my
SUMMARY:KURSUS PENGENDALIAN MAKANAN
DESCRIPTION:Program ini memberikan peluang kepada peniaga makanan untuk mendapatkan sijil pengendalian makanan yang membolehkan mereka berniaga makanan proses.
URL:https://sukau.nadi.my/event/kursus-pengendalian-makanan-3/
LOCATION:Pusat Sebaran Maklumat Nasional (NADI) Kg. Sukau\, Pusat Sebaran Maklumat Nasional (NADI) Kg. Sukau
CATEGORIES:DEFAULT
END:VEVENT
BEGIN:VEVENT
DTSTART;TZID=UTC:20240315T090000
DTEND;TZID=UTC:20240315T110000
DTSTAMP:20260424T062450
CREATED:20240306T234832Z
LAST-MODIFIED:20240306T234832Z
UID:2710-1710493200-1710500400@sukau.nadi.my
SUMMARY:STEM
DESCRIPTION:Memupuk minat komuniti terhadap ilmu pengetahuan\, teknologi\, kejuruteraan dan matematik serta. \n 
URL:https://sukau.nadi.my/event/stem-3/
LOCATION:Pusat Sebaran Maklumat Nasional (NADI) Kg. Sukau\, Pusat Sebaran Maklumat Nasional (NADI) Kg. Sukau
CATEGORIES:DEFAULT
END:VEVENT
BEGIN:VEVENT
DTSTART;TZID=UTC:20240313T080000
DTEND;TZID=UTC:20240314T170000
DTSTAMP:20260424T062450
CREATED:20240307T224133Z
LAST-MODIFIED:20240307T224133Z
UID:2712-1710316800-1710435600@sukau.nadi.my
SUMMARY:STEM
DESCRIPTION:
URL:https://sukau.nadi.my/event/stem-4/
LOCATION:SUKAU\, SUKAU
CATEGORIES:DEFAULT
END:VEVENT
BEGIN:VEVENT
DTSTART;TZID=UTC:20240312T090000
DTEND;TZID=UTC:20240312T110000
DTSTAMP:20260424T062450
CREATED:20240306T234407Z
LAST-MODIFIED:20240306T234407Z
UID:2709-1710234000-1710241200@sukau.nadi.my
SUMMARY:KUIZ ONLINE: SIRAH NABI
DESCRIPTION:Menambahkan ilmu pengetahuan peserta tentang kehidupan dan peristiwa penting dalam sirah Nabi Muhammad S.A.W serta menggunakan sirah Nabi sebagai sumber inspirasi untuk memperkuat iman dan ketakwaan di bulan Ramadhan.
URL:https://sukau.nadi.my/event/kuiz-online-sirah-nabi/
LOCATION:Pusat Sebaran Maklumat Nasional (NADI) Kg. Sukau\, Pusat Sebaran Maklumat Nasional (NADI) Kg. Sukau
CATEGORIES:DEFAULT
END:VEVENT
BEGIN:VEVENT
DTSTART;TZID=UTC:20240311T080000
DTEND;TZID=UTC:20240311T100000
DTSTAMP:20260424T062450
CREATED:20240306T234012Z
LAST-MODIFIED:20240306T234012Z
UID:2708-1710144000-1710151200@sukau.nadi.my
SUMMARY:KELAS DIGITAL CANVA
DESCRIPTION:Mengajarkan kemahiran asas reka bentuk grafik seperti penggunaan warna\, susunan dan elemen reka bentuk yang lain.
URL:https://sukau.nadi.my/event/kelas-digital-canva-4/
LOCATION:Pusat Sebaran Maklumat Nasional (NADI) Kg. Sukau\, Pusat Sebaran Maklumat Nasional (NADI) Kg. Sukau
CATEGORIES:DEFAULT
END:VEVENT
BEGIN:VEVENT
DTSTART;TZID=UTC:20240309T080000
DTEND;TZID=UTC:20240309T100000
DTSTAMP:20260424T062450
CREATED:20240306T233555Z
LAST-MODIFIED:20240306T233555Z
UID:2707-1709971200-1709978400@sukau.nadi.my
SUMMARY:STEM
DESCRIPTION:Mendorong kreativiti dalam mencari penyelesaian baru dan inovatif untuk masalah yang dihadapi oleh masyarakat.
URL:https://sukau.nadi.my/event/stem-2/
CATEGORIES:DEFAULT
END:VEVENT
BEGIN:VEVENT
DTSTART;TZID=UTC:20240308T090000
DTEND;TZID=UTC:20240308T230000
DTSTAMP:20260424T062450
CREATED:20240306T221408Z
LAST-MODIFIED:20240306T221408Z
UID:2704-1709888400-1709938800@sukau.nadi.my
SUMMARY:STEM
DESCRIPTION:
URL:https://sukau.nadi.my/event/stem/
LOCATION:Pusat Sebaran Maklumat Nasional (NADI) Kg. Sukau\, Pusat Sebaran Maklumat Nasional (NADI) Kg. Sukau
CATEGORIES:DEFAULT
END:VEVENT
BEGIN:VEVENT
DTSTART;TZID=UTC:20240306T080000
DTEND;TZID=UTC:20240306T100000
DTSTAMP:20260424T062450
CREATED:20240306T233315Z
LAST-MODIFIED:20240306T233315Z
UID:2706-1709712000-1709719200@sukau.nadi.my
SUMMARY:KELAS ASAS AI: CHAT GPT
DESCRIPTION:Pengenalan terhadap asas-asas teknologi chatbot\, termasuk konsep seperti pemprosesan bahasa semula jadi dan interaksi antara manusia dan engin. 
URL:https://sukau.nadi.my/event/kelas-asas-ai-chat-gpt/
LOCATION:Pusat Sebaran Maklumat Nasional (NADI) Kg. Sukau\, Pusat Sebaran Maklumat Nasional (NADI) Kg. Sukau
CATEGORIES:DEFAULT
END:VEVENT
BEGIN:VEVENT
DTSTART;TZID=UTC:20240304T090000
DTEND;TZID=UTC:20240304T230000
DTSTAMP:20260424T062450
CREATED:20240306T232836Z
LAST-MODIFIED:20240306T232836Z
UID:2705-1709542800-1709593200@sukau.nadi.my
SUMMARY:KEUSAHAWANAN BERSAMA USAHAMAJU
DESCRIPTION:Tujuan utama program keusahawanan ini adalah meningkatkan pertumbuhan ekonomi dalam komuniti setempat. Ini dilakukan dengan menyokong aktiviti perniagaan tempatan\, mencipta peluang pekerjaan\, meningkatkan pendapatan\, dan menyumbang kepada pembangunan ekonomi yang mampan dalam peringkat tempatan.
URL:https://sukau.nadi.my/event/keusahawanan-bersama-usahamaju/
LOCATION:Pusat Sebaran Maklumat Nasional (NADI) Kg. Sukau\, Pusat Sebaran Maklumat Nasional (NADI) Kg. Sukau
CATEGORIES:DEFAULT
END:VEVENT
BEGIN:VEVENT
DTSTART;TZID=UTC:20240301T093000
DTEND;TZID=UTC:20240301T130000
DTSTAMP:20260424T062450
CREATED:20240306T220839Z
LAST-MODIFIED:20240306T220839Z
UID:2703-1709285400-1709298000@sukau.nadi.my
SUMMARY:KURSUS PENGENDALIAN MAKANAN
DESCRIPTION:Tujuan kursus ini adalah untuk memastikan kepatuhan terhadap peraturan dan standard serta membantu peserta kursus mendapatkan sijil. Antara aktiviti yang dibuat adalah taklimat berkenaan proses penyediaan makanan sebelum\, semasa dan selepas sesuai menurut peraturan dan standard.
URL:https://sukau.nadi.my/event/kursus-pengendalian-makanan-2/
LOCATION:Pusat Sebaran Maklumat Nasional (NADI) Kg. Sukau\, Pusat Sebaran Maklumat Nasional (NADI) Kg. Sukau
CATEGORIES:DEFAULT
END:VEVENT
END:VCALENDAR