BEGIN:VCALENDAR
VERSION:2.0
PRODID:-//NADI Sukau, Kinabatangan - ECPv6.15.20//NONSGML v1.0//EN
CALSCALE:GREGORIAN
METHOD:PUBLISH
X-WR-CALNAME:NADI Sukau, Kinabatangan
X-ORIGINAL-URL:https://sukau.nadi.my
X-WR-CALDESC:Events for NADI Sukau, Kinabatangan
REFRESH-INTERVAL;VALUE=DURATION:PT1H
X-Robots-Tag:noindex
X-PUBLISHED-TTL:PT1H
BEGIN:VTIMEZONE
TZID:UTC
BEGIN:STANDARD
TZOFFSETFROM:+0000
TZOFFSETTO:+0000
TZNAME:UTC
DTSTART:20230101T000000
END:STANDARD
END:VTIMEZONE
BEGIN:VEVENT
DTSTART;TZID=UTC:20240624T140000
DTEND;TZID=UTC:20240624T170000
DTSTAMP:20260421T161851
CREATED:20240607T040729Z
LAST-MODIFIED:20240607T040729Z
UID:2753-1719237600-1719248400@sukau.nadi.my
SUMMARY:KEUSAHAWANAN: MENJUAL TEMPLATE DENGAN MENGGUNAKAN CANVA
DESCRIPTION:Mendedahkan kepada komuniti tentang cara-cara menjual template dengan canva sebagai pendapatan pasif.
URL:https://sukau.nadi.my/event/keusahawanan-menjual-template-dengan-menggunakan-canva/
LOCATION:Pusat Sebaran Maklumat Nasional (NADI) Kg. Sukau\, Pusat Sebaran Maklumat Nasional (NADI) Kg. Sukau
CATEGORIES:DEFAULT
END:VEVENT
BEGIN:VEVENT
DTSTART;TZID=UTC:20240622T080000
DTEND;TZID=UTC:20240622T120000
DTSTAMP:20260421T161851
CREATED:20240607T040618Z
LAST-MODIFIED:20240607T040618Z
UID:2752-1719043200-1719057600@sukau.nadi.my
SUMMARY:E-PEMBELAJARAN
DESCRIPTION:Meningkatkan tahap ilmu pengetahuan peserta dalam pelbagai jenis mata pelajaran.
URL:https://sukau.nadi.my/event/e-pembelajaran-3/
LOCATION:Pusat Sebaran Maklumat Nasional (NADI) Kg. Sukau\, Pusat Sebaran Maklumat Nasional (NADI) Kg. Sukau
CATEGORIES:DEFAULT
END:VEVENT
BEGIN:VEVENT
DTSTART;TZID=UTC:20240621T140000
DTEND;TZID=UTC:20240621T170000
DTSTAMP:20260421T161851
CREATED:20240607T040529Z
LAST-MODIFIED:20240607T040529Z
UID:2751-1718978400-1718989200@sukau.nadi.my
SUMMARY:STEM
DESCRIPTION:Meningkatkan tahap kreativiti dan inovasi dalam kalangan peserta khususnya kanak-kanak.
URL:https://sukau.nadi.my/event/stem-7/
LOCATION:Pusat Sebaran Maklumat Nasional (NADI) Kg. Sukau\, Pusat Sebaran Maklumat Nasional (NADI) Kg. Sukau
CATEGORIES:DEFAULT
END:VEVENT
BEGIN:VEVENT
DTSTART;TZID=UTC:20240619T140000
DTEND;TZID=UTC:20240619T170000
DTSTAMP:20260421T161851
CREATED:20240607T040440Z
LAST-MODIFIED:20240607T040440Z
UID:2750-1718805600-1718816400@sukau.nadi.my
SUMMARY:ICT: KELAS CANVA
DESCRIPTION:Meningkatkan kemahiran peserta dalam menggunakan canva.
URL:https://sukau.nadi.my/event/ict-kelas-canva/
LOCATION:Pusat Sebaran Maklumat Nasional (NADI) Kg. Sukau\, Pusat Sebaran Maklumat Nasional (NADI) Kg. Sukau
CATEGORIES:DEFAULT
END:VEVENT
BEGIN:VEVENT
DTSTART;TZID=UTC:20240615T080000
DTEND;TZID=UTC:20240615T120000
DTSTAMP:20260421T161851
CREATED:20240607T040343Z
LAST-MODIFIED:20240607T040343Z
UID:2749-1718438400-1718452800@sukau.nadi.my
SUMMARY:E-PEMBELAJARAN
DESCRIPTION:Meningkatkan tahap ilmu pengetahuan peserta dalam pelbagai jenis mata pelajaran.
URL:https://sukau.nadi.my/event/e-pembelajaran-2/
LOCATION:Pusat Sebaran Maklumat Nasional (NADI) Kg. Sukau\, Pusat Sebaran Maklumat Nasional (NADI) Kg. Sukau
CATEGORIES:DEFAULT
END:VEVENT
BEGIN:VEVENT
DTSTART;TZID=UTC:20240614T140000
DTEND;TZID=UTC:20240614T170000
DTSTAMP:20260421T161851
CREATED:20240607T040242Z
LAST-MODIFIED:20240607T040242Z
UID:2748-1718373600-1718384400@sukau.nadi.my
SUMMARY:STEM
DESCRIPTION:Meningkatkan tahap kreativiti dan inovasi dalam kalangan peserta.
URL:https://sukau.nadi.my/event/stem-6/
LOCATION:Pusat Sebaran Maklumat Nasional (NADI) Kg. Sukau\, Pusat Sebaran Maklumat Nasional (NADI) Kg. Sukau
CATEGORIES:DEFAULT
END:VEVENT
BEGIN:VEVENT
DTSTART;TZID=UTC:20240612T140000
DTEND;TZID=UTC:20240612T170000
DTSTAMP:20260421T161851
CREATED:20240607T040021Z
LAST-MODIFIED:20240607T040021Z
UID:2747-1718200800-1718211600@sukau.nadi.my
SUMMARY:ICT: BASIC MICROSOFT EXCEL 2019
DESCRIPTION:Meningkatkan kemahiran asas dalam penggunaan Microsoft Excel 2019.
URL:https://sukau.nadi.my/event/ict-basic-microsoft-excel-2019/
LOCATION:Pusat Sebaran Maklumat Nasional (NADI) Kg. Sukau\, Pusat Sebaran Maklumat Nasional (NADI) Kg. Sukau
CATEGORIES:DEFAULT
END:VEVENT
BEGIN:VEVENT
DTSTART;TZID=UTC:20240611T140000
DTEND;TZID=UTC:20240611T170000
DTSTAMP:20260421T161851
CREATED:20240607T035824Z
LAST-MODIFIED:20240607T035824Z
UID:2746-1718114400-1718125200@sukau.nadi.my
SUMMARY:SOFTSKILL: MEMBUAT DAN MENGUBAHSUAI RESUME DENGAN CANVA
DESCRIPTION:Memberikan pendedahan khususnya pelajar lepasan SPM tentang cara membuat resume dengan menggunakan canva.
URL:https://sukau.nadi.my/event/softskill-membuat-dan-mengubahsuai-resume-dengan-canva/
LOCATION:Pusat Sebaran Maklumat Nasional (NADI) Kg. Sukau\, Pusat Sebaran Maklumat Nasional (NADI) Kg. Sukau
CATEGORIES:DEFAULT
END:VEVENT
BEGIN:VEVENT
DTSTART;TZID=UTC:20240610T080000
DTEND;TZID=UTC:20240610T120000
DTSTAMP:20260421T161851
CREATED:20240607T000430Z
LAST-MODIFIED:20240607T000430Z
UID:2745-1718006400-1718020800@sukau.nadi.my
SUMMARY:TAKLIMAT YAYASAN USAHA MAJU
DESCRIPTION:Memberikan pendedahan kepada komuniti tentang cara mengembangkan bisnes mereka
URL:https://sukau.nadi.my/event/taklimat-yayasan-usaha-maju/
LOCATION:Pusat Sebaran Maklumat Nasional (NADI) Kg. Sukau\, Pusat Sebaran Maklumat Nasional (NADI) Kg. Sukau
CATEGORIES:DEFAULT
END:VEVENT
BEGIN:VEVENT
DTSTART;TZID=UTC:20240608T080000
DTEND;TZID=UTC:20240608T120000
DTSTAMP:20260421T161851
CREATED:20240607T000133Z
LAST-MODIFIED:20240607T000133Z
UID:2744-1717833600-1717848000@sukau.nadi.my
SUMMARY:E-PEMBELAJARAN:WORD SEARCH
DESCRIPTION:Meningkatkan tahap ilmu pengetahuan peserta dalam pelbagai jenis mata pelajaran.
URL:https://sukau.nadi.my/event/e-pembelajaranword-search/
LOCATION:Pusat Sebaran Maklumat Nasional (NADI) Kg. Sukau\, Pusat Sebaran Maklumat Nasional (NADI) Kg. Sukau
CATEGORIES:DEFAULT
END:VEVENT
BEGIN:VEVENT
DTSTART;TZID=UTC:20240607T140000
DTEND;TZID=UTC:20240607T170000
DTSTAMP:20260421T161851
CREATED:20240607T000008Z
LAST-MODIFIED:20240607T000008Z
UID:2743-1717768800-1717779600@sukau.nadi.my
SUMMARY:STEM
DESCRIPTION:Meningkatkan tahap kreativiti dan inovasi dalam kalangan peserta.
URL:https://sukau.nadi.my/event/stem-5/
LOCATION:Pusat Sebaran Maklumat Nasional (NADI) Kg. Sukau\, Pusat Sebaran Maklumat Nasional (NADI) Kg. Sukau
CATEGORIES:DEFAULT
END:VEVENT
BEGIN:VEVENT
DTSTART;TZID=UTC:20240605T140000
DTEND;TZID=UTC:20240605T170000
DTSTAMP:20260421T161851
CREATED:20240606T235856Z
LAST-MODIFIED:20240606T235856Z
UID:2742-1717596000-1717606800@sukau.nadi.my
SUMMARY:ICT: BASIC MICROSOFT WORD 2019
DESCRIPTION:Mengajar peserta tentang fitur baharu dalam microsoft word 2019.
URL:https://sukau.nadi.my/event/ict-basic-microsoft-word-2019/
LOCATION:Pusat Sebaran Maklumat Nasional (NADI) Kg. Sukau\, Pusat Sebaran Maklumat Nasional (NADI) Kg. Sukau
CATEGORIES:DEFAULT
END:VEVENT
BEGIN:VEVENT
DTSTART;TZID=UTC:20240531T080000
DTEND;TZID=UTC:20240531T120000
DTSTAMP:20260421T161851
CREATED:20240506T222324Z
LAST-MODIFIED:20240506T222324Z
UID:2741-1717142400-1717156800@sukau.nadi.my
SUMMARY:STEM-IOT : ROCKET
DESCRIPTION:Memahami prinsip fizik di sebalik  pelancaran roket dan mengaplikasikannya dalam pembuatan dan ujian roket sederhana.
URL:https://sukau.nadi.my/event/stem-iot-rocket/
LOCATION:Pusat Sebaran Maklumat Nasional (NADI) Kg. Sukau\, Pusat Sebaran Maklumat Nasional (NADI) Kg. Sukau
CATEGORIES:DEFAULT
END:VEVENT
BEGIN:VEVENT
DTSTART;TZID=UTC:20240527T140000
DTEND;TZID=UTC:20240527T170000
DTSTAMP:20260421T161851
CREATED:20240506T222201Z
LAST-MODIFIED:20240506T222201Z
UID:2740-1716818400-1716829200@sukau.nadi.my
SUMMARY:ICT – MICROSOFT PAINT
DESCRIPTION:Mengasah kemahiran dalam menggunakan perisian lukisan iaitu Microsoft Paint
URL:https://sukau.nadi.my/event/ict-microsoft-paint/
LOCATION:Pusat Sebaran Maklumat Nasional (NADI) Kg. Sukau\, Pusat Sebaran Maklumat Nasional (NADI) Kg. Sukau
CATEGORIES:DEFAULT
END:VEVENT
BEGIN:VEVENT
DTSTART;TZID=UTC:20240526T080000
DTEND;TZID=UTC:20240526T120000
DTSTAMP:20260421T161851
CREATED:20240506T221919Z
LAST-MODIFIED:20240506T221919Z
UID:2739-1716710400-1716724800@sukau.nadi.my
SUMMARY:SOFTSKILL – MEMBUAT RESUME MENGGUNAKAN CANVA
DESCRIPTION:Meningkatkan penguasaan kemahiran dalam penyusunan resume yang profesional menggunakan platform Canva.
URL:https://sukau.nadi.my/event/softskill-membuat-resume-menggunakan-canva/
LOCATION:Pusat Sebaran Maklumat Nasional (NADI) Kg. Sukau\, Pusat Sebaran Maklumat Nasional (NADI) Kg. Sukau
CATEGORIES:DEFAULT
END:VEVENT
BEGIN:VEVENT
DTSTART;TZID=UTC:20240524T140000
DTEND;TZID=UTC:20240524T170000
DTSTAMP:20260421T161851
CREATED:20240506T221752Z
LAST-MODIFIED:20240506T221752Z
UID:2738-1716559200-1716570000@sukau.nadi.my
SUMMARY:STEM-IOT: LITAR ELEKTRIK
DESCRIPTION:Mempelajari asas litar elektrik dan prinsip-prinsip sains yang terlibat.
URL:https://sukau.nadi.my/event/stem-iot-litar-elektrik-2/
LOCATION:Pusat Sebaran Maklumat Nasional (NADI) Kg. Sukau\, Pusat Sebaran Maklumat Nasional (NADI) Kg. Sukau
CATEGORIES:DEFAULT
END:VEVENT
BEGIN:VEVENT
DTSTART;TZID=UTC:20240521T140000
DTEND;TZID=UTC:20240521T170000
DTSTAMP:20260421T161851
CREATED:20240506T221627Z
LAST-MODIFIED:20240506T221627Z
UID:2737-1716300000-1716310800@sukau.nadi.my
SUMMARY:E-PEMBELAJARAN : ONLINE MATHEMATIC RACE
DESCRIPTION:Meningkatkan kemahiran matematik melalui pengalaman bertanding dalam perlumbaan matematik dalam talian.
URL:https://sukau.nadi.my/event/e-pembelajaran-online-mathematic-race/
LOCATION:Pusat Sebaran Maklumat Nasional (NADI) Kg. Sukau\, Pusat Sebaran Maklumat Nasional (NADI) Kg. Sukau
CATEGORIES:DEFAULT
END:VEVENT
BEGIN:VEVENT
DTSTART;TZID=UTC:20240520T140000
DTEND;TZID=UTC:20240520T170000
DTSTAMP:20260421T161851
CREATED:20240506T221525Z
LAST-MODIFIED:20240506T221525Z
UID:2736-1716213600-1716224400@sukau.nadi.my
SUMMARY:ICT: BASIC MICROSOFT POWERPOINT – ANIMASI RINGKAS
DESCRIPTION:Meningkatkan penguasaan kemahiran asas dalam pembentangan menggunakan Microsoft Powerpoint.
URL:https://sukau.nadi.my/event/ict-basic-microsoft-powerpoint-animasi-ringkas/
LOCATION:Pusat Sebaran Maklumat Nasional (NADI) Kg. Sukau\, Pusat Sebaran Maklumat Nasional (NADI) Kg. Sukau
CATEGORIES:DEFAULT
END:VEVENT
BEGIN:VEVENT
DTSTART;TZID=UTC:20240518T080000
DTEND;TZID=UTC:20240518T120000
DTSTAMP:20260421T161851
CREATED:20240506T221346Z
LAST-MODIFIED:20240506T221346Z
UID:2735-1716019200-1716033600@sukau.nadi.my
SUMMARY:ICT: GOOGLE MAPS
DESCRIPTION:Meningkatkan pemahaman tentang penggunaan Google Maps untuk navigasi dan pengurusan lokasi
URL:https://sukau.nadi.my/event/ict-google-maps/
LOCATION:Pusat Sebaran Maklumat Nasional (NADI) Kg. Sukau\, Pusat Sebaran Maklumat Nasional (NADI) Kg. Sukau
CATEGORIES:DEFAULT
END:VEVENT
BEGIN:VEVENT
DTSTART;TZID=UTC:20240517T140000
DTEND;TZID=UTC:20240517T170000
DTSTAMP:20260421T161851
CREATED:20240506T221238Z
LAST-MODIFIED:20240506T221238Z
UID:2734-1715954400-1715965200@sukau.nadi.my
SUMMARY:STEM-IOT : STRAW BUILDING
DESCRIPTION:Mengasah kemahiran reka bentuk dan kejuruteraan sambil mempelajari konsep STEM menggunakan straw.
URL:https://sukau.nadi.my/event/stem-iot-straw-building/
LOCATION:Pusat Sebaran Maklumat Nasional (NADI) Kg. Sukau\, Pusat Sebaran Maklumat Nasional (NADI) Kg. Sukau
CATEGORIES:DEFAULT
END:VEVENT
BEGIN:VEVENT
DTSTART;TZID=UTC:20240514T140000
DTEND;TZID=UTC:20240514T170000
DTSTAMP:20260421T161851
CREATED:20240506T221134Z
LAST-MODIFIED:20240506T221134Z
UID:2733-1715695200-1715706000@sukau.nadi.my
SUMMARY:E-PEMBELAJARAN: ENGLISH VOCAB
DESCRIPTION:Program ini dapat meningkatkan perebendaharaan kata dalam Bahasa Inggeris
URL:https://sukau.nadi.my/event/e-pembelajaran-english-vocab/
LOCATION:Pusat Sebaran Maklumat Nasional (NADI) Kg. Sukau\, Pusat Sebaran Maklumat Nasional (NADI) Kg. Sukau
CATEGORIES:DEFAULT
END:VEVENT
BEGIN:VEVENT
DTSTART;TZID=UTC:20240513T140000
DTEND;TZID=UTC:20240513T170000
DTSTAMP:20260421T161851
CREATED:20240506T221022Z
LAST-MODIFIED:20240506T221022Z
UID:2732-1715608800-1715619600@sukau.nadi.my
SUMMARY:ICT : BASIC MICROSOFT WORD - SURAT RASMI
DESCRIPTION:Program ini dapat meningkatkan kemahiran asas dalam penggunaan Microsoft Word untuk membuat surat rasmi.
URL:https://sukau.nadi.my/event/ict-basic-microsoft-word-surat-rasmi/
LOCATION:Pusat Sebaran Maklumat Nasional (NADI) Kg. Sukau\, Pusat Sebaran Maklumat Nasional (NADI) Kg. Sukau
CATEGORIES:DEFAULT
END:VEVENT
BEGIN:VEVENT
DTSTART;TZID=UTC:20240510T140000
DTEND;TZID=UTC:20240510T170000
DTSTAMP:20260421T161851
CREATED:20240506T220901Z
LAST-MODIFIED:20240506T220901Z
UID:2731-1715349600-1715360400@sukau.nadi.my
SUMMARY:STEM-IOT : TRAFFICATOR (ATAS TALIAN)
DESCRIPTION:Program ini bertujuan mengembangkan pemahaman tentang sistem lalu lintas pintar secara atas talian
URL:https://sukau.nadi.my/event/stem-iot-trafficator-atas-talian/
LOCATION:Pusat Sebaran Maklumat Nasional (NADI) Kg. Sukau\, Pusat Sebaran Maklumat Nasional (NADI) Kg. Sukau
CATEGORIES:DEFAULT
END:VEVENT
BEGIN:VEVENT
DTSTART;TZID=UTC:20240507T140000
DTEND;TZID=UTC:20240507T170000
DTSTAMP:20260421T161851
CREATED:20240506T220659Z
LAST-MODIFIED:20240506T220659Z
UID:2730-1715090400-1715101200@sukau.nadi.my
SUMMARY:E-PEMBELAJARAN: WORDS SEARCH
DESCRIPTION:Meningkatkan kemahiran penyelesaian masalah dengan memberi tumpuan melalui permainan mencari kata.
URL:https://sukau.nadi.my/event/e-pembelajaran-words-search/
LOCATION:Pusat Sebaran Maklumat Nasional (NADI) Kg. Sukau\, Pusat Sebaran Maklumat Nasional (NADI) Kg. Sukau
CATEGORIES:DEFAULT
END:VEVENT
BEGIN:VEVENT
DTSTART;TZID=UTC:20240506T080000
DTEND;TZID=UTC:20240506T120000
DTSTAMP:20260421T161851
CREATED:20240506T220440Z
LAST-MODIFIED:20240506T220440Z
UID:2729-1714982400-1714996800@sukau.nadi.my
SUMMARY:KEUSAHAWANAN : MENJANA PENDAPATAN BERSAMA YAYASAN USAHA MAJU
DESCRIPTION:Program ini bertujuan membina kerjasama dengan Yayasan Usaha Maju untuk menjana pendapatan yang mampan khususnya dalam kalangan suri rumah.
URL:https://sukau.nadi.my/event/keusahawanan-menjana-pendapatan-bersama-yayasan-usaha-maju/
LOCATION:Pusat Sebaran Maklumat Nasional (NADI) Kg. Sukau\, Pusat Sebaran Maklumat Nasional (NADI) Kg. Sukau
CATEGORIES:DEFAULT
END:VEVENT
BEGIN:VEVENT
DTSTART;TZID=UTC:20240503T080000
DTEND;TZID=UTC:20240503T120000
DTSTAMP:20260421T161851
CREATED:20240506T220253Z
LAST-MODIFIED:20240506T220253Z
UID:2728-1714723200-1714737600@sukau.nadi.my
SUMMARY:KEUSAHAWANAN : KURSUS PENGENDALIAN MAKANAN
DESCRIPTION:Program ini bertujuan meningkatkan pengetahuan tentang pengendalian makanan yang selamat dan berkualiti
URL:https://sukau.nadi.my/event/keusahawanan-kursus-pengendalian-makanan/
LOCATION:Pusat Sebaran Maklumat Nasional (NADI) Kg. Sukau\, Pusat Sebaran Maklumat Nasional (NADI) Kg. Sukau
CATEGORIES:DEFAULT
END:VEVENT
BEGIN:VEVENT
DTSTART;TZID=UTC:20240430T140000
DTEND;TZID=UTC:20240430T170000
DTSTAMP:20260421T161851
CREATED:20240405T231028Z
LAST-MODIFIED:20240405T231028Z
UID:2727-1714485600-1714496400@sukau.nadi.my
SUMMARY:SHOPPE AFILIATE
DESCRIPTION:Peserta akan diberi bimbingan berkaitan cara membina copywriting dengan Chatgpt serta kaedah menilai prestasi affiliate.
URL:https://sukau.nadi.my/event/shoppe-afiliate/
LOCATION:Pusat Sebaran Maklumat Nasional (NADI) Kg. Sukau\, Pusat Sebaran Maklumat Nasional (NADI) Kg. Sukau
CATEGORIES:DEFAULT
END:VEVENT
BEGIN:VEVENT
DTSTART;TZID=UTC:20240429T140000
DTEND;TZID=UTC:20240429T170000
DTSTAMP:20260421T161851
CREATED:20240405T230937Z
LAST-MODIFIED:20240405T230937Z
UID:2726-1714399200-1714410000@sukau.nadi.my
SUMMARY:E-LEARNING:MEMBUAT POSTER MENGGUNAKAN CANVA
DESCRIPTION:Aktiviti membuat poster menggunakan canva ini akan dapat membantu komuniti khususnya usahawan untuk membuatkan poster jualan mereka lebih menarik.
URL:https://sukau.nadi.my/event/e-learningmembuat-poster-menggunakan-canva/
LOCATION:Pusat Sebaran Maklumat Nasional (NADI) Kg. Sukau\, Pusat Sebaran Maklumat Nasional (NADI) Kg. Sukau
CATEGORIES:DEFAULT
END:VEVENT
BEGIN:VEVENT
DTSTART;TZID=UTC:20240428T080000
DTEND;TZID=UTC:20240428T120000
DTSTAMP:20260421T161851
CREATED:20240405T230841Z
LAST-MODIFIED:20240405T230841Z
UID:2725-1714291200-1714305600@sukau.nadi.my
SUMMARY:SOFT SKILLS: MEMBUAT DAN MENGUBAHSUAI RESUME
DESCRIPTION:Program ini dapat mengasah kemahiran menulis dalam kalangan peserta dengan menggunakan bahasa yang tepat dan berkesan.
URL:https://sukau.nadi.my/event/soft-skills-membuat-dan-mengubahsuai-resume/
LOCATION:Pusat Sebaran Maklumat Nasional (NADI) Kg. Sukau\, Pusat Sebaran Maklumat Nasional (NADI) Kg. Sukau
CATEGORIES:DEFAULT
END:VEVENT
BEGIN:VEVENT
DTSTART;TZID=UTC:20240427T080000
DTEND;TZID=UTC:20240427T120000
DTSTAMP:20260421T161851
CREATED:20240405T230714Z
LAST-MODIFIED:20240405T230714Z
UID:2724-1714204800-1714219200@sukau.nadi.my
SUMMARY:STEM-IOT: BOUNCY EGG
DESCRIPTION:aktiviti akan memberikan memberikan pelajaran yang interaktif dan menyeronokkan kepada kanak-kanak. Ini kerana mereka dapat melihat perubahan yang menarik pada telur dan menyelidiki sifat-sifat baru pada telur tersebut.
URL:https://sukau.nadi.my/event/stem-iot-bouncy-egg/
LOCATION:Pusat Sebaran Maklumat Nasional (NADI) Kg. Sukau\, Pusat Sebaran Maklumat Nasional (NADI) Kg. Sukau
CATEGORIES:DEFAULT
END:VEVENT
END:VCALENDAR