BEGIN:VCALENDAR
VERSION:2.0
PRODID:-//NADI Sukau, Kinabatangan - ECPv6.15.20//NONSGML v1.0//EN
CALSCALE:GREGORIAN
METHOD:PUBLISH
X-WR-CALNAME:NADI Sukau, Kinabatangan
X-ORIGINAL-URL:https://sukau.nadi.my
X-WR-CALDESC:Events for NADI Sukau, Kinabatangan
REFRESH-INTERVAL;VALUE=DURATION:PT1H
X-Robots-Tag:noindex
X-PUBLISHED-TTL:PT1H
BEGIN:VTIMEZONE
TZID:UTC
BEGIN:STANDARD
TZOFFSETFROM:+0000
TZOFFSETTO:+0000
TZNAME:UTC
DTSTART:20230101T000000
END:STANDARD
END:VTIMEZONE
BEGIN:VEVENT
DTSTART;TZID=UTC:20240806T080000
DTEND;TZID=UTC:20240806T120000
DTSTAMP:20260421T003430
CREATED:20240806T175955Z
LAST-MODIFIED:20240806T175955Z
UID:2773-1722931200-1722945600@sukau.nadi.my
SUMMARY:ICT - CANVA
DESCRIPTION:Untuk memperkenalkan pengguna kepada Canva\, sebuah alat reka bentuk grafik dalam talian\, dan mengajar mereka cara mencipta bahan visual yang menarik.
URL:https://sukau.nadi.my/event/ict-canva/
LOCATION:Pusat Sebaran Maklumat Nasional (NADI) Kg. Sukau\, Pusat Sebaran Maklumat Nasional (NADI) Kg. Sukau
CATEGORIES:DEFAULT
END:VEVENT
BEGIN:VEVENT
DTSTART;TZID=UTC:20240805T080000
DTEND;TZID=UTC:20240805T120000
DTSTAMP:20260421T003430
CREATED:20240806T175449Z
LAST-MODIFIED:20240806T175449Z
UID:2772-1722844800-1722859200@sukau.nadi.my
SUMMARY:KEUSAHAWANAN - YAYASAN USAHA MAJU
DESCRIPTION:Untuk memberi pendedahan dan latihan kepada individu tentang asas-asas keusahawanan\, termasuk bagaimana memulakan dan mengurus perniagaan sendiri.
URL:https://sukau.nadi.my/event/keusahawanan-yayasan-usaha-maju-2/
LOCATION:Pusat Sebaran Maklumat Nasional (NADI) Kg. Sukau\, Pusat Sebaran Maklumat Nasional (NADI) Kg. Sukau
CATEGORIES:DEFAULT
END:VEVENT
BEGIN:VEVENT
DTSTART;TZID=UTC:20240803T140000
DTEND;TZID=UTC:20240803T170000
DTSTAMP:20260421T003430
CREATED:20240806T174459Z
LAST-MODIFIED:20240806T174459Z
UID:2771-1722693600-1722704400@sukau.nadi.my
SUMMARY:STEM: ASSEMBLER (ONLINE)
DESCRIPTION:Untuk mengajar kanak-kanak tentang konsep asas dalam kejuruteraan dan teknologi dengan menggunakan alat perisian untuk menyusun komponen elektronik.
URL:https://sukau.nadi.my/event/stem-assembler-online/
LOCATION:Pusat Sebaran Maklumat Nasional (NADI) Kg. Sukau\, Pusat Sebaran Maklumat Nasional (NADI) Kg. Sukau
CATEGORIES:DEFAULT
END:VEVENT
BEGIN:VEVENT
DTSTART;TZID=UTC:20240727T080000
DTEND;TZID=UTC:20240727T120000
DTSTAMP:20260421T003430
CREATED:20240701T231153Z
LAST-MODIFIED:20240701T231153Z
UID:2770-1722067200-1722081600@sukau.nadi.my
SUMMARY:ICT
DESCRIPTION:Meningkatkan ilmu pengetahuan peserta berkenaan ICT
URL:https://sukau.nadi.my/event/ict-3/
LOCATION:Pusat Sebaran Maklumat Nasional (NADI) Kg. Sukau\, Pusat Sebaran Maklumat Nasional (NADI) Kg. Sukau
CATEGORIES:DEFAULT
END:VEVENT
BEGIN:VEVENT
DTSTART;TZID=UTC:20240726T140000
DTEND;TZID=UTC:20240726T170000
DTSTAMP:20260421T003430
CREATED:20240701T231048Z
LAST-MODIFIED:20240701T231048Z
UID:2769-1722002400-1722013200@sukau.nadi.my
SUMMARY:STEM
DESCRIPTION:Membantu pelajar mengembangkan kemampuan untuk menganalisis dan menyelesaikan masalah secara kritis.
URL:https://sukau.nadi.my/event/stem-12/
LOCATION:Pusat Sebaran Maklumat Nasional (NADI) Kg. Sukau\, Pusat Sebaran Maklumat Nasional (NADI) Kg. Sukau
CATEGORIES:DEFAULT
END:VEVENT
BEGIN:VEVENT
DTSTART;TZID=UTC:20240724T140000
DTEND;TZID=UTC:20240724T170000
DTSTAMP:20260421T003430
CREATED:20240701T230943Z
LAST-MODIFIED:20240701T230943Z
UID:2768-1721829600-1721840400@sukau.nadi.my
SUMMARY:E-PEMBELAJARAN
DESCRIPTION:Membantu meningkatkan ilmu pengetahuan peserta
URL:https://sukau.nadi.my/event/e-pembelajaran-8/
LOCATION:Pusat Sebaran Maklumat Nasional (NADI) Kg. Sukau\, Pusat Sebaran Maklumat Nasional (NADI) Kg. Sukau
CATEGORIES:DEFAULT
END:VEVENT
BEGIN:VEVENT
DTSTART;TZID=UTC:20240720T080000
DTEND;TZID=UTC:20240720T120000
DTSTAMP:20260421T003430
CREATED:20240701T230850Z
LAST-MODIFIED:20240701T230850Z
UID:2767-1721462400-1721476800@sukau.nadi.my
SUMMARY:ICT
DESCRIPTION:Meningkatkan kemahiran digital dalam kalangan komuniti
URL:https://sukau.nadi.my/event/ict-2/
LOCATION:Pusat Sebaran Maklumat Nasional (NADI) Kg. Sukau\, Pusat Sebaran Maklumat Nasional (NADI) Kg. Sukau
CATEGORIES:DEFAULT
END:VEVENT
BEGIN:VEVENT
DTSTART;TZID=UTC:20240719T140000
DTEND;TZID=UTC:20240719T170000
DTSTAMP:20260421T003430
CREATED:20240701T230807Z
LAST-MODIFIED:20240701T230807Z
UID:2766-1721397600-1721408400@sukau.nadi.my
SUMMARY:STEM
DESCRIPTION:Membantu mengembangkan pemikiran kreatif dan inovatif 
URL:https://sukau.nadi.my/event/stem-11/
LOCATION:Pusat Sebaran Maklumat Nasional (NADI) Kg. Sukau\, Pusat Sebaran Maklumat Nasional (NADI) Kg. Sukau
CATEGORIES:DEFAULT
END:VEVENT
BEGIN:VEVENT
DTSTART;TZID=UTC:20240717T140000
DTEND;TZID=UTC:20240717T170000
DTSTAMP:20260421T003430
CREATED:20240701T230715Z
LAST-MODIFIED:20240701T230715Z
UID:2765-1721224800-1721235600@sukau.nadi.my
SUMMARY:E-PEMBELAJARAN
DESCRIPTION:Menyediakan akses kepada pelbagai bidang bahan pembelajaran secara atas talian.
URL:https://sukau.nadi.my/event/e-pembelajaran-7/
LOCATION:Pusat Sebaran Maklumat Nasional (NADI) Kg. Sukau\, Pusat Sebaran Maklumat Nasional (NADI) Kg. Sukau
CATEGORIES:DEFAULT
END:VEVENT
BEGIN:VEVENT
DTSTART;TZID=UTC:20240716T140000
DTEND;TZID=UTC:20240716T170000
DTSTAMP:20260421T003430
CREATED:20240701T230622Z
LAST-MODIFIED:20240701T230622Z
UID:2764-1721138400-1721149200@sukau.nadi.my
SUMMARY:SOFTSKILL
DESCRIPTION:Meningkatkan kebolehan serta kemahiran peserta yang boleh digunakan untuk bekerja.
URL:https://sukau.nadi.my/event/softskill/
LOCATION:Pusat Sebaran Maklumat Nasional (NADI) Kg. Sukau\, Pusat Sebaran Maklumat Nasional (NADI) Kg. Sukau
CATEGORIES:DEFAULT
END:VEVENT
BEGIN:VEVENT
DTSTART;TZID=UTC:20240713T080000
DTEND;TZID=UTC:20240713T120000
DTSTAMP:20260421T003430
CREATED:20240701T230532Z
LAST-MODIFIED:20240701T230532Z
UID:2763-1720857600-1720872000@sukau.nadi.my
SUMMARY:ICT-MICROSOFT EXCELL LEVEL 1
DESCRIPTION:Meningkatkan kemahiran peserta dalam bidang microsoft excell
URL:https://sukau.nadi.my/event/ict-microsoft-excell-level-1/
LOCATION:Pusat Sebaran Maklumat Nasional (NADI) Kg. Sukau\, Pusat Sebaran Maklumat Nasional (NADI) Kg. Sukau
CATEGORIES:DEFAULT
END:VEVENT
BEGIN:VEVENT
DTSTART;TZID=UTC:20240712T140000
DTEND;TZID=UTC:20240712T170000
DTSTAMP:20260421T003430
CREATED:20240701T230429Z
LAST-MODIFIED:20240701T230429Z
UID:2762-1720792800-1720803600@sukau.nadi.my
SUMMARY:STEM
DESCRIPTION:Memberikan peserta kemahiran dan pengetahuan yang tinggi dalam bidang sains dan teknologi.
URL:https://sukau.nadi.my/event/stem-10/
LOCATION:Pusat Sebaran Maklumat Nasional (NADI) Kg. Sukau\, Pusat Sebaran Maklumat Nasional (NADI) Kg. Sukau
CATEGORIES:DEFAULT
END:VEVENT
BEGIN:VEVENT
DTSTART;TZID=UTC:20240710T140000
DTEND;TZID=UTC:20240710T170000
DTSTAMP:20260421T003430
CREATED:20240701T230339Z
LAST-MODIFIED:20240701T230339Z
UID:2761-1720620000-1720630800@sukau.nadi.my
SUMMARY:E-PEMBELAJARAN
DESCRIPTION:Membolehkan peserta untuk belajar diluar kelas sekaligus mengulangkaji pelajaran.
URL:https://sukau.nadi.my/event/e-pembelajaran-6/
LOCATION:Pusat Sebaran Maklumat Nasional (NADI) Kg. Sukau\, Pusat Sebaran Maklumat Nasional (NADI) Kg. Sukau
CATEGORIES:DEFAULT
END:VEVENT
BEGIN:VEVENT
DTSTART;TZID=UTC:20240706T080000
DTEND;TZID=UTC:20240706T120000
DTSTAMP:20260421T003430
CREATED:20240701T230238Z
LAST-MODIFIED:20240701T230238Z
UID:2760-1720252800-1720267200@sukau.nadi.my
SUMMARY:ICT
DESCRIPTION:Meningkatkan produktiviti dan kecekapan peserta ketika melakukan tugasan.
URL:https://sukau.nadi.my/event/ict/
LOCATION:Pusat Sebaran Maklumat Nasional (NADI) Kg. Sukau\, Pusat Sebaran Maklumat Nasional (NADI) Kg. Sukau
CATEGORIES:DEFAULT
END:VEVENT
BEGIN:VEVENT
DTSTART;TZID=UTC:20240705T140000
DTEND;TZID=UTC:20240705T170000
DTSTAMP:20260421T003430
CREATED:20240701T230142Z
LAST-MODIFIED:20240701T230142Z
UID:2759-1720188000-1720198800@sukau.nadi.my
SUMMARY:STEM
DESCRIPTION:Membantu mengembangkan pemikiran kreatif dan inovatif.
URL:https://sukau.nadi.my/event/stem-9/
LOCATION:Pusat Sebaran Maklumat Nasional (NADI) Kg. Sukau\, Pusat Sebaran Maklumat Nasional (NADI) Kg. Sukau
CATEGORIES:DEFAULT
END:VEVENT
BEGIN:VEVENT
DTSTART;TZID=UTC:20240703T140000
DTEND;TZID=UTC:20240703T170000
DTSTAMP:20260421T003430
CREATED:20240701T230044Z
LAST-MODIFIED:20240701T230044Z
UID:2758-1720015200-1720026000@sukau.nadi.my
SUMMARY:E-PEMBELAJARAN
DESCRIPTION:Meningkatkan tahap ilmu pengetahuan peserta dalam pelbagai jenis mata pelajaran.
URL:https://sukau.nadi.my/event/e-pembelajaran-5/
LOCATION:Pusat Sebaran Maklumat Nasional (NADI) Kg. Sukau\, Pusat Sebaran Maklumat Nasional (NADI) Kg. Sukau
CATEGORIES:DEFAULT
END:VEVENT
BEGIN:VEVENT
DTSTART;TZID=UTC:20240701T080000
DTEND;TZID=UTC:20240701T120000
DTSTAMP:20260421T003430
CREATED:20240701T225913Z
LAST-MODIFIED:20240701T225913Z
UID:2757-1719820800-1719835200@sukau.nadi.my
SUMMARY:KEUSAHAWANAN-YAYASAN USAHA MAJU
DESCRIPTION:Memberikan pendedahan kepada komuniti tentang cara mengembangkan bisnes mereka.
URL:https://sukau.nadi.my/event/keusahawanan-yayasan-usaha-maju/
LOCATION:Pusat Sebaran Maklumat Nasional (NADI) Kg. Sukau\, Pusat Sebaran Maklumat Nasional (NADI) Kg. Sukau
CATEGORIES:DEFAULT
END:VEVENT
BEGIN:VEVENT
DTSTART;TZID=UTC:20240629T080000
DTEND;TZID=UTC:20240629T120000
DTSTAMP:20260421T003430
CREATED:20240607T041118Z
LAST-MODIFIED:20240607T041118Z
UID:2756-1719648000-1719662400@sukau.nadi.my
SUMMARY:E-PEMBELAJARAN
DESCRIPTION:Meningkatkan tahap ilmu pengetahuan peserta dalam pelbagai jenis mata pelajaran.
URL:https://sukau.nadi.my/event/e-pembelajaran-4/
LOCATION:Pusat Sebaran Maklumat Nasional (NADI) Kg. Sukau\, Pusat Sebaran Maklumat Nasional (NADI) Kg. Sukau
CATEGORIES:DEFAULT
END:VEVENT
BEGIN:VEVENT
DTSTART;TZID=UTC:20240628T140000
DTEND;TZID=UTC:20240628T170000
DTSTAMP:20260421T003430
CREATED:20240607T041015Z
LAST-MODIFIED:20240607T041015Z
UID:2755-1719583200-1719594000@sukau.nadi.my
SUMMARY:STEM
DESCRIPTION:Meningkatkan tahap kreativiti dan inovasi dalam kalangan peserta.
URL:https://sukau.nadi.my/event/stem-8/
LOCATION:Pusat Sebaran Maklumat Nasional (NADI) Kg. Sukau\, Pusat Sebaran Maklumat Nasional (NADI) Kg. Sukau
CATEGORIES:DEFAULT
END:VEVENT
BEGIN:VEVENT
DTSTART;TZID=UTC:20240626T140000
DTEND;TZID=UTC:20240626T170000
DTSTAMP:20260421T003430
CREATED:20240607T040826Z
LAST-MODIFIED:20240607T040826Z
UID:2754-1719410400-1719421200@sukau.nadi.my
SUMMARY:ICT: KELAS MENAIP
DESCRIPTION:Meningkatkan kemahiran menaip dalam kalangan peserta
URL:https://sukau.nadi.my/event/ict-kelas-menaip/
LOCATION:Pusat Sebaran Maklumat Nasional (NADI) Kg. Sukau\, Pusat Sebaran Maklumat Nasional (NADI) Kg. Sukau
CATEGORIES:DEFAULT
END:VEVENT
BEGIN:VEVENT
DTSTART;TZID=UTC:20240624T140000
DTEND;TZID=UTC:20240624T170000
DTSTAMP:20260421T003430
CREATED:20240607T040729Z
LAST-MODIFIED:20240607T040729Z
UID:2753-1719237600-1719248400@sukau.nadi.my
SUMMARY:KEUSAHAWANAN: MENJUAL TEMPLATE DENGAN MENGGUNAKAN CANVA
DESCRIPTION:Mendedahkan kepada komuniti tentang cara-cara menjual template dengan canva sebagai pendapatan pasif.
URL:https://sukau.nadi.my/event/keusahawanan-menjual-template-dengan-menggunakan-canva/
LOCATION:Pusat Sebaran Maklumat Nasional (NADI) Kg. Sukau\, Pusat Sebaran Maklumat Nasional (NADI) Kg. Sukau
CATEGORIES:DEFAULT
END:VEVENT
BEGIN:VEVENT
DTSTART;TZID=UTC:20240622T080000
DTEND;TZID=UTC:20240622T120000
DTSTAMP:20260421T003430
CREATED:20240607T040618Z
LAST-MODIFIED:20240607T040618Z
UID:2752-1719043200-1719057600@sukau.nadi.my
SUMMARY:E-PEMBELAJARAN
DESCRIPTION:Meningkatkan tahap ilmu pengetahuan peserta dalam pelbagai jenis mata pelajaran.
URL:https://sukau.nadi.my/event/e-pembelajaran-3/
LOCATION:Pusat Sebaran Maklumat Nasional (NADI) Kg. Sukau\, Pusat Sebaran Maklumat Nasional (NADI) Kg. Sukau
CATEGORIES:DEFAULT
END:VEVENT
BEGIN:VEVENT
DTSTART;TZID=UTC:20240621T140000
DTEND;TZID=UTC:20240621T170000
DTSTAMP:20260421T003430
CREATED:20240607T040529Z
LAST-MODIFIED:20240607T040529Z
UID:2751-1718978400-1718989200@sukau.nadi.my
SUMMARY:STEM
DESCRIPTION:Meningkatkan tahap kreativiti dan inovasi dalam kalangan peserta khususnya kanak-kanak.
URL:https://sukau.nadi.my/event/stem-7/
LOCATION:Pusat Sebaran Maklumat Nasional (NADI) Kg. Sukau\, Pusat Sebaran Maklumat Nasional (NADI) Kg. Sukau
CATEGORIES:DEFAULT
END:VEVENT
BEGIN:VEVENT
DTSTART;TZID=UTC:20240619T140000
DTEND;TZID=UTC:20240619T170000
DTSTAMP:20260421T003430
CREATED:20240607T040440Z
LAST-MODIFIED:20240607T040440Z
UID:2750-1718805600-1718816400@sukau.nadi.my
SUMMARY:ICT: KELAS CANVA
DESCRIPTION:Meningkatkan kemahiran peserta dalam menggunakan canva.
URL:https://sukau.nadi.my/event/ict-kelas-canva/
LOCATION:Pusat Sebaran Maklumat Nasional (NADI) Kg. Sukau\, Pusat Sebaran Maklumat Nasional (NADI) Kg. Sukau
CATEGORIES:DEFAULT
END:VEVENT
BEGIN:VEVENT
DTSTART;TZID=UTC:20240615T080000
DTEND;TZID=UTC:20240615T120000
DTSTAMP:20260421T003430
CREATED:20240607T040343Z
LAST-MODIFIED:20240607T040343Z
UID:2749-1718438400-1718452800@sukau.nadi.my
SUMMARY:E-PEMBELAJARAN
DESCRIPTION:Meningkatkan tahap ilmu pengetahuan peserta dalam pelbagai jenis mata pelajaran.
URL:https://sukau.nadi.my/event/e-pembelajaran-2/
LOCATION:Pusat Sebaran Maklumat Nasional (NADI) Kg. Sukau\, Pusat Sebaran Maklumat Nasional (NADI) Kg. Sukau
CATEGORIES:DEFAULT
END:VEVENT
BEGIN:VEVENT
DTSTART;TZID=UTC:20240614T140000
DTEND;TZID=UTC:20240614T170000
DTSTAMP:20260421T003430
CREATED:20240607T040242Z
LAST-MODIFIED:20240607T040242Z
UID:2748-1718373600-1718384400@sukau.nadi.my
SUMMARY:STEM
DESCRIPTION:Meningkatkan tahap kreativiti dan inovasi dalam kalangan peserta.
URL:https://sukau.nadi.my/event/stem-6/
LOCATION:Pusat Sebaran Maklumat Nasional (NADI) Kg. Sukau\, Pusat Sebaran Maklumat Nasional (NADI) Kg. Sukau
CATEGORIES:DEFAULT
END:VEVENT
BEGIN:VEVENT
DTSTART;TZID=UTC:20240612T140000
DTEND;TZID=UTC:20240612T170000
DTSTAMP:20260421T003430
CREATED:20240607T040021Z
LAST-MODIFIED:20240607T040021Z
UID:2747-1718200800-1718211600@sukau.nadi.my
SUMMARY:ICT: BASIC MICROSOFT EXCEL 2019
DESCRIPTION:Meningkatkan kemahiran asas dalam penggunaan Microsoft Excel 2019.
URL:https://sukau.nadi.my/event/ict-basic-microsoft-excel-2019/
LOCATION:Pusat Sebaran Maklumat Nasional (NADI) Kg. Sukau\, Pusat Sebaran Maklumat Nasional (NADI) Kg. Sukau
CATEGORIES:DEFAULT
END:VEVENT
BEGIN:VEVENT
DTSTART;TZID=UTC:20240611T140000
DTEND;TZID=UTC:20240611T170000
DTSTAMP:20260421T003430
CREATED:20240607T035824Z
LAST-MODIFIED:20240607T035824Z
UID:2746-1718114400-1718125200@sukau.nadi.my
SUMMARY:SOFTSKILL: MEMBUAT DAN MENGUBAHSUAI RESUME DENGAN CANVA
DESCRIPTION:Memberikan pendedahan khususnya pelajar lepasan SPM tentang cara membuat resume dengan menggunakan canva.
URL:https://sukau.nadi.my/event/softskill-membuat-dan-mengubahsuai-resume-dengan-canva/
LOCATION:Pusat Sebaran Maklumat Nasional (NADI) Kg. Sukau\, Pusat Sebaran Maklumat Nasional (NADI) Kg. Sukau
CATEGORIES:DEFAULT
END:VEVENT
BEGIN:VEVENT
DTSTART;TZID=UTC:20240610T080000
DTEND;TZID=UTC:20240610T120000
DTSTAMP:20260421T003430
CREATED:20240607T000430Z
LAST-MODIFIED:20240607T000430Z
UID:2745-1718006400-1718020800@sukau.nadi.my
SUMMARY:TAKLIMAT YAYASAN USAHA MAJU
DESCRIPTION:Memberikan pendedahan kepada komuniti tentang cara mengembangkan bisnes mereka
URL:https://sukau.nadi.my/event/taklimat-yayasan-usaha-maju/
LOCATION:Pusat Sebaran Maklumat Nasional (NADI) Kg. Sukau\, Pusat Sebaran Maklumat Nasional (NADI) Kg. Sukau
CATEGORIES:DEFAULT
END:VEVENT
BEGIN:VEVENT
DTSTART;TZID=UTC:20240608T080000
DTEND;TZID=UTC:20240608T120000
DTSTAMP:20260421T003430
CREATED:20240607T000133Z
LAST-MODIFIED:20240607T000133Z
UID:2744-1717833600-1717848000@sukau.nadi.my
SUMMARY:E-PEMBELAJARAN:WORD SEARCH
DESCRIPTION:Meningkatkan tahap ilmu pengetahuan peserta dalam pelbagai jenis mata pelajaran.
URL:https://sukau.nadi.my/event/e-pembelajaranword-search/
LOCATION:Pusat Sebaran Maklumat Nasional (NADI) Kg. Sukau\, Pusat Sebaran Maklumat Nasional (NADI) Kg. Sukau
CATEGORIES:DEFAULT
END:VEVENT
END:VCALENDAR